BEGIN:VCALENDAR
VERSION:2.0
PRODID:-//Missouri Farm Bureau - ECPv6.15.20//NONSGML v1.0//EN
CALSCALE:GREGORIAN
METHOD:PUBLISH
X-WR-CALNAME:Missouri Farm Bureau
X-ORIGINAL-URL:https://mofb.org
X-WR-CALDESC:Events for Missouri Farm Bureau
REFRESH-INTERVAL;VALUE=DURATION:PT1H
X-Robots-Tag:noindex
X-PUBLISHED-TTL:PT1H
BEGIN:VTIMEZONE
TZID:America/Chicago
BEGIN:DAYLIGHT
TZOFFSETFROM:-0600
TZOFFSETTO:-0500
TZNAME:CDT
DTSTART:20240310T080000
END:DAYLIGHT
BEGIN:STANDARD
TZOFFSETFROM:-0500
TZOFFSETTO:-0600
TZNAME:CST
DTSTART:20241103T070000
END:STANDARD
BEGIN:DAYLIGHT
TZOFFSETFROM:-0600
TZOFFSETTO:-0500
TZNAME:CDT
DTSTART:20250309T080000
END:DAYLIGHT
BEGIN:STANDARD
TZOFFSETFROM:-0500
TZOFFSETTO:-0600
TZNAME:CST
DTSTART:20251102T070000
END:STANDARD
BEGIN:DAYLIGHT
TZOFFSETFROM:-0600
TZOFFSETTO:-0500
TZNAME:CDT
DTSTART:20260308T080000
END:DAYLIGHT
BEGIN:STANDARD
TZOFFSETFROM:-0500
TZOFFSETTO:-0600
TZNAME:CST
DTSTART:20261101T070000
END:STANDARD
END:VTIMEZONE
BEGIN:VEVENT
DTSTART;TZID=America/Chicago:20250325T173000
DTEND;TZID=America/Chicago:20250325T200000
DTSTAMP:20260420T183430
CREATED:20241203T193309Z
LAST-MODIFIED:20241217T133840Z
UID:14846-1742923800-1742932800@mofb.org
SUMMARY:District 5 Farm Bureau Fellowship in Pacific
DESCRIPTION:Missouri Farm Bureau is coming to Pacific! We hope you will join us for a meal and conversation with staff and fellow members. \nFarm Bureau Fellowship will be held on Tuesday\, March 25\, 2025\, at Haue Valley\, 7100 Thornton Rd.\, Pacific\, MO\, 63069. Doors open at 5:30 p.m.\, dinner served at 6 p.m. \nFeel free to bring potential members with you to this event.  All guests can enter to win a cooler.
URL:https://mofb.org/event/district-5-farm-bureau-fellowship-in-pacific/
CATEGORIES:Farm Bureau Fellowship
END:VEVENT
END:VCALENDAR