BEGIN:VCALENDAR
VERSION:2.0
PRODID:-//Missouri Farm Bureau - ECPv6.15.20//NONSGML v1.0//EN
CALSCALE:GREGORIAN
METHOD:PUBLISH
X-ORIGINAL-URL:https://mofb.org
X-WR-CALDESC:Events for Missouri Farm Bureau
REFRESH-INTERVAL;VALUE=DURATION:PT1H
X-Robots-Tag:noindex
X-PUBLISHED-TTL:PT1H
BEGIN:VTIMEZONE
TZID:America/Chicago
BEGIN:DAYLIGHT
TZOFFSETFROM:-0600
TZOFFSETTO:-0500
TZNAME:CDT
DTSTART:20240310T080000
END:DAYLIGHT
BEGIN:STANDARD
TZOFFSETFROM:-0500
TZOFFSETTO:-0600
TZNAME:CST
DTSTART:20241103T070000
END:STANDARD
BEGIN:DAYLIGHT
TZOFFSETFROM:-0600
TZOFFSETTO:-0500
TZNAME:CDT
DTSTART:20250309T080000
END:DAYLIGHT
BEGIN:STANDARD
TZOFFSETFROM:-0500
TZOFFSETTO:-0600
TZNAME:CST
DTSTART:20251102T070000
END:STANDARD
BEGIN:DAYLIGHT
TZOFFSETFROM:-0600
TZOFFSETTO:-0500
TZNAME:CDT
DTSTART:20260308T080000
END:DAYLIGHT
BEGIN:STANDARD
TZOFFSETFROM:-0500
TZOFFSETTO:-0600
TZNAME:CST
DTSTART:20261101T070000
END:STANDARD
END:VTIMEZONE
BEGIN:VEVENT
DTSTART;TZID=America/Chicago:20250206T173000
DTEND;TZID=America/Chicago:20250206T200000
DTSTAMP:20260424T062309
CREATED:20241203T193553Z
LAST-MODIFIED:20241217T133323Z
UID:14849-1738863000-1738872000@mofb.org
SUMMARY:District 7 Farm Bureau Fellowship in Mt. Vernon
DESCRIPTION:Missouri Farm Bureau is coming to southwest Missouri! We hope you will join us for a meal and conversation with staff and fellow members. \nFarm Bureau Fellowship will be held on Thursday\, February 6\, 2025\, at the Southwest Center\, 14548 State Road H\, Mt. Vernon\, MO\, 65714. Doors open at 5:30 p.m.\, dinner served at 6 p.m. \nFeel free to bring potential members with you to this event.  All guests can enter to win a cooler.
URL:https://mofb.org/event/district-7-farm-bureau-fellowship-in-mt-vernon/
CATEGORIES:Farm Bureau Fellowship
END:VEVENT
BEGIN:VEVENT
DTSTART;TZID=America/Chicago:20250211T173000
DTEND;TZID=America/Chicago:20250211T200000
DTSTAMP:20260424T062309
CREATED:20241122T153412Z
LAST-MODIFIED:20241217T133632Z
UID:14808-1739295000-1739304000@mofb.org
SUMMARY:District 1 Farm Bureau Fellowship in Cameron
DESCRIPTION:Missouri Farm Bureau is coming to northwest Missouri! We hope you will join us for a meal and conversation with staff and fellow members. \nFarm Bureau Fellowship will be held on Tuesday\, February 11\, 2025\, at the Cameron Community Center\, 915 N Ashland Dr\, Cameron\, MO 64429. Doors open at 5:30 p.m.\, dinner served at 6 p.m. \nFeel free to bring potential members with you to this event.  All guests can enter to win a cooler.
URL:https://mofb.org/event/d1-fbf-2025/
CATEGORIES:Farm Bureau Fellowship
END:VEVENT
BEGIN:VEVENT
DTSTART;VALUE=DATE:20250214
DTEND;VALUE=DATE:20250217
DTSTAMP:20260424T062309
CREATED:20241218T185535Z
LAST-MODIFIED:20241218T185535Z
UID:14912-1739491200-1739750399@mofb.org
SUMMARY:2025 Young Farmers & Ranchers Leadership Conference
DESCRIPTION:The annual YF&R Conference brings together Missouri’s young farmers and their families to hear from speakers\, participate in competitions and enjoy time with one another. Register below or contact your county’s Farm Bureau office. \nRegistration & Lodging Information\nRegistration for the 2025 YF&R Conference will take place via EventLeaf\, the official app and partner for this year’s event. Lodging information at Margaritaville will also available via the EventLeaf website/app. \n\n\nSchedule of Events\nFriday\, February 14 \n3 p.m. || Registration (closes at 6 p.m.)\n5 p.m. || Discussion Meet: Opening Round\n6:30 p.m. || Dinner & Welcome\n7:45 p.m. || District Breakout Sessions\n8:30 p.m. || Photo Session 1 \nSaturday\, February 15 \n7:30 a.m. || Breakfast\n8:45 a.m. || Breakout Seminars 1\n9:50 a.m. || Breakout Seminars 2\n10:55 a.m. || Breakout Seminars 3\n12 p.m. || Lunch\n1:15 p.m. || Photo Session 2\n2 p.m. || Afternoon Activities + Kids Pedal Pull\n4 p.m. || Discussion Meet: Final Round\n6 p.m. || Dinner + Speaker (Vallie Collins) \nSunday\, February 16 \n8:30 a.m. || Church Service\n9:15 a.m. || Brunch + Speaker (Nathan Woehr)\n10:45 a.m. || Adjourn & Departure
URL:https://mofb.org/event/2025-yfr/
LOCATION:Margaritaville Lake Resort\, 494 Tan Tara Drive\, Osage Beach\, MO\, 65065\, United States
CATEGORIES:Young Farmers & Ranchers
END:VEVENT
BEGIN:VEVENT
DTSTART;VALUE=DATE:20250224
DTEND;VALUE=DATE:20250226
DTSTAMP:20260424T062309
CREATED:20241230T161424Z
LAST-MODIFIED:20250220T171903Z
UID:14936-1740355200-1740527999@mofb.org
SUMMARY:2025 Legislative Briefing
DESCRIPTION:MOFB will host its annual Legislative Briefing on February 24-25 at the MOFB Home Office (701 S. Country Club Drive; Jefferson City). \nHotel: A room block has been reserved at the Comfort Suites (4804 Country Club Drive; Jefferson City) at a nightly rate of $140 plus tax. Attendees will be responsible for making reservations directly with the hotel. Call 573.636.0300 and reference the Missouri Farm Bureau block. \nAgenda:\nMonday\, February 24 \n10:30 a.m. || PAC General Session\n11:15 a.m. || Regional Endorsement Committee Meetings\n12 p.m. || Lunch\n1 p.m. || Legislative Briefing Kickoff — Special guests include: MOFB President Garrett Hawkins\, Missouri Attorney General Andrew Bailey\, Senator Jason Bean\, Senator Kurtis Gregory\, Representative Brad Pollitt and Representative Doyle Justus\n2:30 p.m. || Busses Depart for Missouri Capitol\n3 p.m. || Legislative Visits\n5 p.m. || Busses Return to MOFB\n5:30 p.m. || Legislative Reception\n6:30 p.m. || Legislative Banquet — Special guest: Governor Mike Kehoe \nTuesday\, February 25 \n7:30 a.m. || Breakfast at MOFB\n8 a.m. || Legislative Briefing — Special guests include: Matt Reardon\, senior atmospheric scientist for Conduit Ag; Ben Brown\, FAPRI senior research associate and MU Extension ag economist; Chris Chinn\, MO Department of Agriculture director; Jason Summers\, MO Department of Conservation director; Kurt Schaefer\, MO Department of Natural Resources director\n10:15 a.m. || “This Week in Missouri Politics” Recording\n11 a.m. || Adjourn \nContact the MOFB home office staff at 573-893-1405 with any questions. \nRSVP below:
URL:https://mofb.org/event/2025lb/
LOCATION:Missouri Farm Bureau\, 701 S. Country Club Drive\, Jefferson City\, MO\, 65109\, United States
ATTACH;FMTTYPE=image/png:https://mofb.org/MOFB/wp-content/uploads/2024/12/mo-capitol-2024.png
END:VEVENT
BEGIN:VEVENT
DTSTART;TZID=America/Chicago:20250226T173000
DTEND;TZID=America/Chicago:20250226T200000
DTSTAMP:20260424T062309
CREATED:20241203T185616Z
LAST-MODIFIED:20250127T232403Z
UID:14843-1740591000-1740600000@mofb.org
SUMMARY:District 3 Farm Bureau Fellowship in Fulton
DESCRIPTION:Missouri Farm Bureau is coming to east central Missouri! We hope you will join us for a meal and conversation with staff and fellow members. \nFarm Bureau Fellowship will be held on Wednesday\, February 26\, 2025\, at the Callaway Electric Coop community room at 1313 Cooperative Dr\, Fulton\, MO 65251. Doors open at 5:30 p.m.\, dinner served at 6 p.m. \nFeel free to bring potential members with you to this event.  All guests can enter to win a cooler.
URL:https://mofb.org/event/district-3-farm-bureau-fellowship-in-auxvasse/
CATEGORIES:Farm Bureau Fellowship
END:VEVENT
END:VCALENDAR