BEGIN:VCALENDAR
VERSION:2.0
PRODID:-//Missouri Farm Bureau - ECPv6.15.20//NONSGML v1.0//EN
CALSCALE:GREGORIAN
METHOD:PUBLISH
X-WR-CALNAME:Missouri Farm Bureau
X-ORIGINAL-URL:https://mofb.org
X-WR-CALDESC:Events for Missouri Farm Bureau
REFRESH-INTERVAL;VALUE=DURATION:PT1H
X-Robots-Tag:noindex
X-PUBLISHED-TTL:PT1H
BEGIN:VTIMEZONE
TZID:America/Chicago
BEGIN:DAYLIGHT
TZOFFSETFROM:-0600
TZOFFSETTO:-0500
TZNAME:CDT
DTSTART:20220313T080000
END:DAYLIGHT
BEGIN:STANDARD
TZOFFSETFROM:-0500
TZOFFSETTO:-0600
TZNAME:CST
DTSTART:20221106T070000
END:STANDARD
BEGIN:DAYLIGHT
TZOFFSETFROM:-0600
TZOFFSETTO:-0500
TZNAME:CDT
DTSTART:20230312T080000
END:DAYLIGHT
BEGIN:STANDARD
TZOFFSETFROM:-0500
TZOFFSETTO:-0600
TZNAME:CST
DTSTART:20231105T070000
END:STANDARD
BEGIN:DAYLIGHT
TZOFFSETFROM:-0600
TZOFFSETTO:-0500
TZNAME:CDT
DTSTART:20240310T080000
END:DAYLIGHT
BEGIN:STANDARD
TZOFFSETFROM:-0500
TZOFFSETTO:-0600
TZNAME:CST
DTSTART:20241103T070000
END:STANDARD
END:VTIMEZONE
BEGIN:VEVENT
DTSTART;VALUE=DATE:20230715
DTEND;VALUE=DATE:20230716
DTSTAMP:20260422T053211
CREATED:20230425T132146Z
LAST-MODIFIED:20230703T183008Z
UID:12537-1689379200-1689465599@mofb.org
SUMMARY:2023 Keep Missouri Farming Tractor Cruise\, Northwest
DESCRIPTION:All for a great cause!\nAll proceeds benefit the Missouri Farm Bureau Foundation for Agriculture. The Foundation provides a dedicated funding source for a variety of agricultural education programs and leadership programs. \nEarly registration will close on Wednesday\, July 5. Drivers may also register on-site the morning of the event\, using cash or check only. Credit card will not be accepted the day of the event. \nSchedule\n7:30 a.m. – Check in at Mid Buchanan R-V School (3221 SE State Route H; Faucett\, MO; 64448) \n8:30 a.m. – Drivers’ Meeting \n9 a.m. – Event Start (Event Starts and Finishes at Mid Buchanan R-V School) \n12 p.m. – Lunch at Frazier Baptist Church (13601 State Route E SE; Agency\, MO; 64401) \nFees + Lunch Information\nOpen-Station Tractors – $35 \nAir-Conditioned Cab Tractors – $50 \n*All fees include a pork lunch for participant at Frazier Baptist Church. Additional guests may purchase lunch tickets on-site for $10/adult or $5/child. \nSponsorship Opportunities\nIndividuals and businesses can become a Tractor Cruise sponsor for as little as $100! As a sponsor\, you will be recognized at the tractor cruise on signage\, in participant goodie bags\, and more. Sponsors are also invited to join the tractor cruise for lunch\, compliments of the Foundation. \nRegister as a silver or gold sponsor by June 30 and the name/organization’s name will also appear on the T-shirt! Please submit your sponsorship by June 30. \nSponsorship levels:\nGOLD SPONSOR: $500  \nSILVER SPONSOR $250  \nBRONZE SPONSOR: $100  \nTractor Cruise Rules\nThe main purpose of the Tractor Cruise is to raise money for agricultural awareness through the Missouri Farm Bureau Foundation for Agriculture and to have fun in the process. An accident or injury would take the fun out for everyone. \nWith this in mind and to assure that everyone is able to have a fun time\, following are the rules for the Tractor Cruise: \n1. All tractors must be in good mechanical condition to participate in the cruise (i.e.\, properly functioning brakes and parking brakes\, non-excessive fuel or water leaks\, good tires\, non-excessive exhaust\, etc.). \n2. Traffic laws must be obeyed at all times during the cruise\, including stops. \n3. All drivers must have a valid driver’s license (state law)\, and drivers under 18 years must have written parental permission. \n4. Operators must have insurance. \n5. All participants must sign a disclaimer that is part of the registration form. \n6. No “horseplay” will be allowed during the cruise\, including stops. \n7. Riders are not allowed unless they are seated in a “buddy” seat that is securely positioned next to or with the operator’s seat. Other seats must be approved by tractor cruise officials. Inappropriate or unsafe seats will be prohibited and the rider will not be allowed to ride the tractor during the cruise. \n8. No ATVs will be allowed unless they are used by a cruise worker/volunteer. \n9. All tractors must be able to go at least 10 mph. \n10. No alcohol will be allowed at any time. \n11. Drivers must follow the designated route\, stay with their designated group\, are not allowed to pass and should drive on the shoulder whenever possible. \n12. No implements\, trailers or dual wheels are allowed. \n13. All tractors must have a slow moving vehicle sign securely mounted on the rear. \n14. No refunds. \nAll safety rules will be enforced by the officials of the 2023 Tractor Cruise. Any violations to the above stated rules or any other items or actions deemed to be unsafe or inappropriate for the cruise participants\, volunteers\, the general public or communities will result in the tractor and/ or cruise participant being asked to leave the cruise route. \nTractor Cruise Terms & Conditions\nIn consideration of your acceptance of this entry\, I hereby\, for myself\, my heirs\, my executors\, administrators\, agents and assigns\, release and discharge the Missouri Farm Bureau Foundation for Agriculture and its affiliated entities\, their officers\, directors\, employees\, agents\, members\, volunteers\, and sponsors from any and all claims\, demands\, damages\, actions and causes of action (present or future\, whether known or unknown\, anticipated or unanticipated)\, including without limitation\, claims for personal injuries or death and/or damages to my property relating to participation in the Tractor Cruise to the extent that those injuries and damages arose from the negligence or any other fault of Missouri Farm Bureau or its officers\, directors\, employees\, agents\,\nmembers\, volunteers and sponsors. I attest and verify that I have full knowledge of the risks involved in this event and either I am or my child is physically and sufficiently able to operate the equipment needed to participate in the Tractor Cruise. I also give my permission for the use of my or my child’s name and/or image in any broadcast\, telecast\, digital video or print media (to include audio\, video and/or still photography) account of the Tractor Cruise\, including those created or produced by Missouri Farm Bureau or any other associated entity. I represent and certify that I am 18 years of age or older\, and that my or my child’s participation in the Tractor Cruise is voluntary. The undersigned hereby expressly agrees that this Release is intended to be as broad and inclusive as permitted by the laws of the State of Missouri and that if any portion is held invalid\, it is agreed that the balance shall\, notwithstanding\, continue in full legal force and effect.
URL:https://mofb.org/event/23tractor/
CATEGORIES:Foundation
ATTACH;FMTTYPE=image/png:https://mofb.org/MOFB/wp-content/uploads/2023/04/2020tractorcruise.png
END:VEVENT
BEGIN:VEVENT
DTSTART;VALUE=DATE:20230716
DTEND;VALUE=DATE:20230719
DTSTAMP:20260422T053211
CREATED:20230411T135426Z
LAST-MODIFIED:20230710T184055Z
UID:12461-1689465600-1689724799@mofb.org
SUMMARY:2023 Agritourism Conference
DESCRIPTION:2023 Agritourism Conference\nHost Hotel: The Elms Hotel & Spa || Address: 401 Regent Street; Excelsior Springs\, MO; 64024 || Phone: 816.630.5500\nSunday\, July 16\n4 – 6 p.m. — Registration\n6 p.m. — Reception & Dinner\, featuring comments by MOFB President Garrett Hawkins and Randy White (Hutchinson Leisure & Learning Group) \nMonday\, July 17\n7 a.m. – 9 p.m. — Bus Tour (Departs from The Elms Hotel & Spa; includes lunch + dinner) \n\nBarham Family Farms\nFun Farm Pumpkin Patch – Clay County\nThe Farmer’s House Market – Weston\nRed Barn Farm\nWeston Tour\nWeston Orchard & Vineyard\nShatto Milk Company\nAngle Acres\nTobacco Barn || Farm-to-Table wine-pairing dinner w/ the Missouri Wine & Grape Board\n\nTuesday\, July 18\n8 a.m. – 8:30 a.m. — Coffee w/ Exhibitors\, featuring comments by MOFB CAO Blake Rollins.\n8:45 a.m. — U-Pick your Path: Prioritize Communications to Achieve Your Business Goals\, featuring Mallory Rahe (Missouri Agriculture Food & Forestry Innovation Center)\n9:45 a.m. — Financial Opportunities for Agriculture\, featuring Jill Wood (Missouri Department of Agriculture)\n10:45 a.m. — What You Need to Know about Retail Food Sales\, featuring Paige Anderson (Missouri Department of Health & Senior Services Retail Food Program Manager)\n11:30 a.m. — Lunch\, featuring “What Flew … What Flopped”\n1 p.m. — Embrace Your Quirks\, Boost Your Exposure: Leveraging Uniqueness to Thrive in the Tourism Industry\, featuring Katie Blake (Missouri Division of Tourism)\n1:45 p.m. — Exhibitor Sharing\n2:15 p.m. — Panel Discussion: Growing Rural Community Economic Development Through Agritourism\, featuring Stacie Bratcher (Kearney Chamber of Commerce)\, Steve Frey (Weston Red Barn Farm)\, Tammy Bruckerhoff (City of Hermann/Visit Hermann) and Curtis Delgman (Peno Creek Pumpkin Patch) \nRegistration Fee: $125/person\, includes Sunday reception/dinner\, Monday bus tour\, lunch and Farm to Table dinner\, and Tuesday program sessions and lunch. Registration is available online through Wednesday\, July 12.\nHotel Rate: $129 + tax (king bed); $149 + tax (2 double beds). Please contact The Elms Hotel & Spa to reserve your rate. Rooms may be available at the hotel at a later date; however\, the negotiated room rate may not be available.\nVendors: Limited vendor spaces are available at the host hotel during dinner on Sunday evening and throughout the workshop sessions on Tuesday afternoon. Contact Julie Waldrop (julie.waldrop@mofb.org // 573.893.1417) to reserve a space. \nContact Davin Althoff (davin.althoff@mofb.org // 573-893-1416) for additional details regarding the conference.
URL:https://mofb.org/event/23agconf/
LOCATION:Excelsior Springs\, MO\, 401 Regent Street\, Excelsior Springs\, MO\, 64024\, United States
CATEGORIES:Marketing and Commodities
ATTACH;FMTTYPE=image/png:https://mofb.org/MOFB/wp-content/uploads/2021/05/AGRItourism-e1622043729770.png
END:VEVENT
END:VCALENDAR