BEGIN:VCALENDAR
VERSION:2.0
PRODID:-//Missouri Farm Bureau - ECPv6.15.20//NONSGML v1.0//EN
CALSCALE:GREGORIAN
METHOD:PUBLISH
X-WR-CALNAME:Missouri Farm Bureau
X-ORIGINAL-URL:https://mofb.org
X-WR-CALDESC:Events for Missouri Farm Bureau
REFRESH-INTERVAL;VALUE=DURATION:PT1H
X-Robots-Tag:noindex
X-PUBLISHED-TTL:PT1H
BEGIN:VTIMEZONE
TZID:America/Chicago
BEGIN:DAYLIGHT
TZOFFSETFROM:-0600
TZOFFSETTO:-0500
TZNAME:CDT
DTSTART:20210314T080000
END:DAYLIGHT
BEGIN:STANDARD
TZOFFSETFROM:-0500
TZOFFSETTO:-0600
TZNAME:CST
DTSTART:20211107T070000
END:STANDARD
BEGIN:DAYLIGHT
TZOFFSETFROM:-0600
TZOFFSETTO:-0500
TZNAME:CDT
DTSTART:20220313T080000
END:DAYLIGHT
BEGIN:STANDARD
TZOFFSETFROM:-0500
TZOFFSETTO:-0600
TZNAME:CST
DTSTART:20221106T070000
END:STANDARD
BEGIN:DAYLIGHT
TZOFFSETFROM:-0600
TZOFFSETTO:-0500
TZNAME:CDT
DTSTART:20230312T080000
END:DAYLIGHT
BEGIN:STANDARD
TZOFFSETFROM:-0500
TZOFFSETTO:-0600
TZNAME:CST
DTSTART:20231105T070000
END:STANDARD
END:VTIMEZONE
BEGIN:VEVENT
DTSTART;TZID=America/Chicago:20220510T173000
DTEND;TZID=America/Chicago:20220510T200000
DTSTAMP:20260422T053248
CREATED:20220217T180228Z
LAST-MODIFIED:20220302T153858Z
UID:10888-1652203800-1652212800@mofb.org
SUMMARY:District 8 Farm Bureau Fellowship in Houston
DESCRIPTION:Missouri Farm Bureau will be coming to South Central Missouri! We hope you will join us for a meal and conversation with staff and fellow members. \nFarm Bureau Fellowship will be held Tuesday\, May 10\, 2022 at the Texas County Fairgrounds\, 1591 US Hwy 63\, Houston\, MO 65483. Doors open at 5:30 p.m.\, dinner served at 6:00 p.m. \nFeel free to bring potential members with you to this event.  All guests can enter to win a cooler. \nPlease RSVP at the website below!
URL:https://mofb.org/event/district-8-farm-bureau-fellowship-in-houston/
LOCATION:Texas County Fairgrounds\, 1591 U.S. Hwy 63\, Houston\, 65483
CATEGORIES:Farm Bureau Fellowship
END:VEVENT
END:VCALENDAR