BEGIN:VCALENDAR
VERSION:2.0
PRODID:-//Missouri Farm Bureau - ECPv6.15.20//NONSGML v1.0//EN
CALSCALE:GREGORIAN
METHOD:PUBLISH
X-WR-CALNAME:Missouri Farm Bureau
X-ORIGINAL-URL:https://mofb.org
X-WR-CALDESC:Events for Missouri Farm Bureau
REFRESH-INTERVAL;VALUE=DURATION:PT1H
X-Robots-Tag:noindex
X-PUBLISHED-TTL:PT1H
BEGIN:VTIMEZONE
TZID:America/Chicago
BEGIN:DAYLIGHT
TZOFFSETFROM:-0600
TZOFFSETTO:-0500
TZNAME:CDT
DTSTART:20210314T080000
END:DAYLIGHT
BEGIN:STANDARD
TZOFFSETFROM:-0500
TZOFFSETTO:-0600
TZNAME:CST
DTSTART:20211107T070000
END:STANDARD
BEGIN:DAYLIGHT
TZOFFSETFROM:-0600
TZOFFSETTO:-0500
TZNAME:CDT
DTSTART:20220313T080000
END:DAYLIGHT
BEGIN:STANDARD
TZOFFSETFROM:-0500
TZOFFSETTO:-0600
TZNAME:CST
DTSTART:20221106T070000
END:STANDARD
BEGIN:DAYLIGHT
TZOFFSETFROM:-0600
TZOFFSETTO:-0500
TZNAME:CDT
DTSTART:20230312T080000
END:DAYLIGHT
BEGIN:STANDARD
TZOFFSETFROM:-0500
TZOFFSETTO:-0600
TZNAME:CST
DTSTART:20231105T070000
END:STANDARD
END:VTIMEZONE
BEGIN:VEVENT
DTSTART;TZID=America/Chicago:20220413T173000
DTEND;TZID=America/Chicago:20220413T200000
DTSTAMP:20260422T071853
CREATED:20220217T175934Z
LAST-MODIFIED:20220302T153909Z
UID:10885-1649871000-1649880000@mofb.org
SUMMARY:District 2 Farm Bureau Fellowship in Shelbina
DESCRIPTION:Missouri Farm Bureau will be coming to Northeast Missouri! We hope you will join us for a meal and conversation with staff and fellow members. \nFarm Bureau Fellowship will be held Wednesday\, April 13\, 2022 at the Father Buhman Center\, 103 South 4th St\, Shelbina\, MO 63564. Doors open at 5:30 p.m.\, dinner served at 6:00 p.m. \nFeel free to bring potential members with you to this event.  All guests can enter to win a cooler. \nPlease RSVP at the website below!
URL:https://mofb.org/event/district-2-farm-bureau-fellowship-in-shelbina/
LOCATION:Father Buhman Center\, 103 S. 4th St.\, Shelbina\, MO\, 63564\, United States
CATEGORIES:Farm Bureau Fellowship
END:VEVENT
END:VCALENDAR