BEGIN:VCALENDAR
VERSION:2.0
PRODID:-//Missouri Farm Bureau - ECPv6.15.20//NONSGML v1.0//EN
CALSCALE:GREGORIAN
METHOD:PUBLISH
X-WR-CALNAME:Missouri Farm Bureau
X-ORIGINAL-URL:https://mofb.org
X-WR-CALDESC:Events for Missouri Farm Bureau
REFRESH-INTERVAL;VALUE=DURATION:PT1H
X-Robots-Tag:noindex
X-PUBLISHED-TTL:PT1H
BEGIN:VTIMEZONE
TZID:America/New_York
BEGIN:DAYLIGHT
TZOFFSETFROM:-0500
TZOFFSETTO:-0400
TZNAME:EDT
DTSTART:20230312T070000
END:DAYLIGHT
BEGIN:STANDARD
TZOFFSETFROM:-0400
TZOFFSETTO:-0500
TZNAME:EST
DTSTART:20231105T060000
END:STANDARD
BEGIN:DAYLIGHT
TZOFFSETFROM:-0500
TZOFFSETTO:-0400
TZNAME:EDT
DTSTART:20240310T070000
END:DAYLIGHT
BEGIN:STANDARD
TZOFFSETFROM:-0400
TZOFFSETTO:-0500
TZNAME:EST
DTSTART:20241103T060000
END:STANDARD
BEGIN:DAYLIGHT
TZOFFSETFROM:-0500
TZOFFSETTO:-0400
TZNAME:EDT
DTSTART:20250309T070000
END:DAYLIGHT
BEGIN:STANDARD
TZOFFSETFROM:-0400
TZOFFSETTO:-0500
TZNAME:EST
DTSTART:20251102T060000
END:STANDARD
END:VTIMEZONE
BEGIN:VEVENT
DTSTART;VALUE=DATE:20240303
DTEND;VALUE=DATE:20240310
DTSTAMP:20260424T025904
CREATED:20240109T140453Z
LAST-MODIFIED:20240109T140515Z
UID:13686-1709424000-1710028799@mofb.org
SUMMARY:2024 Celebrate Agriculture: Thank a Farmer Week
DESCRIPTION:Celebrate Agriculture: Thank a Farmer Week is a time to celebrate the abundance of food\, fuel and fiber produced by the American farmer. Throughout the week\, county Farm Bureau volunteers give back to their local communities in a variety of ways\, sharing the message of agriculture with friends and neighbors. Thank a Farmer efforts are coordinated by the Missouri Farm Bureau Promotion and Education Committee.
URL:https://mofb.org/event/2024-thank-a-farmer-week/
LOCATION:MO
CATEGORIES:Promotion & Education
ATTACH;FMTTYPE=image/jpeg:https://mofb.org/MOFB/wp-content/uploads/2018/10/TAF_web_Artboard-1-1.jpg
END:VEVENT
END:VCALENDAR